BEGIN:VCALENDAR
VERSION:2.0
PRODID:-//Remo Liebscher - ECPv6.15.20//NONSGML v1.0//EN
CALSCALE:GREGORIAN
METHOD:PUBLISH
X-WR-CALNAME:Remo Liebscher
X-ORIGINAL-URL:https://remoliebscher.de
X-WR-CALDESC:Veranstaltungen für Remo Liebscher
REFRESH-INTERVAL;VALUE=DURATION:PT1H
X-Robots-Tag:noindex
X-PUBLISHED-TTL:PT1H
BEGIN:VTIMEZONE
TZID:Europe/Berlin
BEGIN:DAYLIGHT
TZOFFSETFROM:+0100
TZOFFSETTO:+0200
TZNAME:CEST
DTSTART:20250330T010000
END:DAYLIGHT
BEGIN:STANDARD
TZOFFSETFROM:+0200
TZOFFSETTO:+0100
TZNAME:CET
DTSTART:20251026T010000
END:STANDARD
BEGIN:DAYLIGHT
TZOFFSETFROM:+0100
TZOFFSETTO:+0200
TZNAME:CEST
DTSTART:20260329T010000
END:DAYLIGHT
BEGIN:STANDARD
TZOFFSETFROM:+0200
TZOFFSETTO:+0100
TZNAME:CET
DTSTART:20261025T010000
END:STANDARD
BEGIN:DAYLIGHT
TZOFFSETFROM:+0100
TZOFFSETTO:+0200
TZNAME:CEST
DTSTART:20270328T010000
END:DAYLIGHT
BEGIN:STANDARD
TZOFFSETFROM:+0200
TZOFFSETTO:+0100
TZNAME:CET
DTSTART:20271031T010000
END:STANDARD
END:VTIMEZONE
BEGIN:VEVENT
DTSTART;TZID=Europe/Berlin:20260527T180000
DTEND;TZID=Europe/Berlin:20260527T200000
DTSTAMP:20260423T151908
CREATED:20260331T091147Z
LAST-MODIFIED:20260331T182628Z
UID:4327-1779904800-1779912000@remoliebscher.de
SUMMARY:Treffen Team Zastrow | Ortsgruppe Dresden Süd-Ost
DESCRIPTION:TEAM Süd-Ost lädt ein!\nIm TEAM Süd-Ost wollen wir nicht nur über politische Themen sprechen\, sondern konkrete Anliegen aus den Stadtbezirken Prohlis\, Leuben und Loschwitz aufnehmen und gemeinsam voranbringen. Bei unserem informellen Austausch geht es um das\, was die Menschen im Dresdner Südosten bewegt – ob Verkehr\, Grünflächen\, soziale Fragen oder das Leben in unseren Stadtbezirken insgesamt. \nEingeladen sind alle TEAM-Mitglieder und Interessierten\, die mitreden\, mitdenken und etwas bewegen wollen. Bringt eure Ideen\, Erfahrungen und Hinweise ein – und gern auch Freunde oder Bekannte\, die sich für unsere Themen interessieren. \nWir freuen uns auf einen offenen Abend\, klare Worte\, gute Gespräche und neue Impulse für unseren Dresdner Südosten.
URL:https://remoliebscher.de/event/treffen-team-zastrow-ortsgruppe-dresden-sued-ost-3/
LOCATION:Hotel & Restaurant Klosterhof\, Altleubnitz 12\, Dresden\, 01219\, Germany
CATEGORIES:Ortsgruppe Dresden Süd-Ost,Team Zastrow
ATTACH;FMTTYPE=image/jpeg:https://remoliebscher.de/wp-content/uploads/2026/01/Team-Treffen-Einladung.jpg
ORGANIZER;CN="Team Zastrow | Ortsgruppe Dresden S%C3%BCd-Ost":MAILTO:info@remoliebscher.de
END:VEVENT
BEGIN:VEVENT
DTSTART;TZID=Europe/Berlin:20260701T180000
DTEND;TZID=Europe/Berlin:20260701T200000
DTSTAMP:20260423T151908
CREATED:20260331T183237Z
LAST-MODIFIED:20260331T183237Z
UID:4381-1782928800-1782936000@remoliebscher.de
SUMMARY:Treffen Team Zastrow | Ortsgruppe Dresden Süd-Ost
DESCRIPTION:TEAM Süd-Ost lädt ein!\nIm TEAM Süd-Ost wollen wir nicht nur über politische Themen sprechen\, sondern konkrete Anliegen aus den Stadtbezirken Prohlis\, Leuben und Loschwitz aufnehmen und gemeinsam voranbringen. Bei unserem informellen Austausch geht es um das\, was die Menschen im Dresdner Südosten bewegt – ob Verkehr\, Grünflächen\, soziale Fragen oder das Leben in unseren Stadtbezirken insgesamt. \nEingeladen sind alle TEAM-Mitglieder und Interessierten\, die mitreden\, mitdenken und etwas bewegen wollen. Bringt eure Ideen\, Erfahrungen und Hinweise ein – und gern auch Freunde oder Bekannte\, die sich für unsere Themen interessieren. \nWir freuen uns auf einen offenen Abend\, klare Worte\, gute Gespräche und neue Impulse für unseren Dresdner Südosten.
URL:https://remoliebscher.de/event/treffen-team-zastrow-ortsgruppe-dresden-sued-ost-4/
LOCATION:Der Veranstaltungsort wird noch bekannt gegeben
CATEGORIES:Ortsgruppe Dresden Süd-Ost,Team Zastrow
ATTACH;FMTTYPE=image/jpeg:https://remoliebscher.de/wp-content/uploads/2026/01/Team-Treffen-Einladung.jpg
ORGANIZER;CN="Team Zastrow | Ortsgruppe Dresden S%C3%BCd-Ost":MAILTO:info@remoliebscher.de
END:VEVENT
BEGIN:VEVENT
DTSTART;TZID=Europe/Berlin:20260819T180000
DTEND;TZID=Europe/Berlin:20260819T200000
DTSTAMP:20260423T151908
CREATED:20260331T183506Z
LAST-MODIFIED:20260331T183506Z
UID:4384-1787162400-1787169600@remoliebscher.de
SUMMARY:Treffen Team Zastrow | Ortsgruppe Dresden Süd-Ost
DESCRIPTION:TEAM Süd-Ost lädt ein!\nIm TEAM Süd-Ost wollen wir nicht nur über politische Themen sprechen\, sondern konkrete Anliegen aus den Stadtbezirken Prohlis\, Leuben und Loschwitz aufnehmen und gemeinsam voranbringen. Bei unserem informellen Austausch geht es um das\, was die Menschen im Dresdner Südosten bewegt – ob Verkehr\, Grünflächen\, soziale Fragen oder das Leben in unseren Stadtbezirken insgesamt. \nEingeladen sind alle TEAM-Mitglieder und Interessierten\, die mitreden\, mitdenken und etwas bewegen wollen. Bringt eure Ideen\, Erfahrungen und Hinweise ein – und gern auch Freunde oder Bekannte\, die sich für unsere Themen interessieren. \nWir freuen uns auf einen offenen Abend\, klare Worte\, gute Gespräche und neue Impulse für unseren Dresdner Südosten.
URL:https://remoliebscher.de/event/treffen-team-zastrow-ortsgruppe-dresden-sued-ost-5/
LOCATION:Der Veranstaltungsort wird noch bekannt gegeben
CATEGORIES:Ortsgruppe Dresden Süd-Ost,Team Zastrow
ATTACH;FMTTYPE=image/jpeg:https://remoliebscher.de/wp-content/uploads/2026/01/Team-Treffen-Einladung.jpg
ORGANIZER;CN="Team Zastrow | Ortsgruppe Dresden S%C3%BCd-Ost":MAILTO:info@remoliebscher.de
END:VEVENT
BEGIN:VEVENT
DTSTART;TZID=Europe/Berlin:20260929T180000
DTEND;TZID=Europe/Berlin:20260929T200000
DTSTAMP:20260423T151908
CREATED:20260331T183606Z
LAST-MODIFIED:20260331T183606Z
UID:4387-1790704800-1790712000@remoliebscher.de
SUMMARY:Treffen Team Zastrow | Ortsgruppe Dresden Süd-Ost
DESCRIPTION:TEAM Süd-Ost lädt ein!\nIm TEAM Süd-Ost wollen wir nicht nur über politische Themen sprechen\, sondern konkrete Anliegen aus den Stadtbezirken Prohlis\, Leuben und Loschwitz aufnehmen und gemeinsam voranbringen. Bei unserem informellen Austausch geht es um das\, was die Menschen im Dresdner Südosten bewegt – ob Verkehr\, Grünflächen\, soziale Fragen oder das Leben in unseren Stadtbezirken insgesamt. \nEingeladen sind alle TEAM-Mitglieder und Interessierten\, die mitreden\, mitdenken und etwas bewegen wollen. Bringt eure Ideen\, Erfahrungen und Hinweise ein – und gern auch Freunde oder Bekannte\, die sich für unsere Themen interessieren. \nWir freuen uns auf einen offenen Abend\, klare Worte\, gute Gespräche und neue Impulse für unseren Dresdner Südosten.
URL:https://remoliebscher.de/event/treffen-team-zastrow-ortsgruppe-dresden-sued-ost-6/
LOCATION:Der Veranstaltungsort wird noch bekannt gegeben
CATEGORIES:Ortsgruppe Dresden Süd-Ost,Team Zastrow
ATTACH;FMTTYPE=image/jpeg:https://remoliebscher.de/wp-content/uploads/2026/01/Team-Treffen-Einladung.jpg
ORGANIZER;CN="Team Zastrow | Ortsgruppe Dresden S%C3%BCd-Ost":MAILTO:info@remoliebscher.de
END:VEVENT
BEGIN:VEVENT
DTSTART;TZID=Europe/Berlin:20261117T180000
DTEND;TZID=Europe/Berlin:20261117T200000
DTSTAMP:20260423T151908
CREATED:20260331T183725Z
LAST-MODIFIED:20260331T183725Z
UID:4390-1794938400-1794945600@remoliebscher.de
SUMMARY:Treffen Team Zastrow | Ortsgruppe Dresden Süd-Ost
DESCRIPTION:TEAM Süd-Ost lädt ein!\nIm TEAM Süd-Ost wollen wir nicht nur über politische Themen sprechen\, sondern konkrete Anliegen aus den Stadtbezirken Prohlis\, Leuben und Loschwitz aufnehmen und gemeinsam voranbringen. Bei unserem informellen Austausch geht es um das\, was die Menschen im Dresdner Südosten bewegt – ob Verkehr\, Grünflächen\, soziale Fragen oder das Leben in unseren Stadtbezirken insgesamt. \nEingeladen sind alle TEAM-Mitglieder und Interessierten\, die mitreden\, mitdenken und etwas bewegen wollen. Bringt eure Ideen\, Erfahrungen und Hinweise ein – und gern auch Freunde oder Bekannte\, die sich für unsere Themen interessieren. \nWir freuen uns auf einen offenen Abend\, klare Worte\, gute Gespräche und neue Impulse für unseren Dresdner Südosten.
URL:https://remoliebscher.de/event/treffen-team-zastrow-ortsgruppe-dresden-sued-ost-7/
LOCATION:Der Veranstaltungsort wird noch bekannt gegeben
CATEGORIES:Ortsgruppe Dresden Süd-Ost,Team Zastrow
ATTACH;FMTTYPE=image/jpeg:https://remoliebscher.de/wp-content/uploads/2026/01/Team-Treffen-Einladung.jpg
ORGANIZER;CN="Team Zastrow | Ortsgruppe Dresden S%C3%BCd-Ost":MAILTO:info@remoliebscher.de
END:VEVENT
END:VCALENDAR